BEGIN:VCALENDAR
VERSION:2.0
PRODID:icalendar-ruby
CALSCALE:GREGORIAN
METHOD:PUBLISH
BEGIN:VEVENT
DTSTAMP:20260422T090021Z
UID:8-222438@joaquinfbc.com
DTSTART:20260816T164500Z
DTEND:20260816T180000Z
CLASS:PUBLIC
CREATED:20260421T193113
DESCRIPTION:
LAST-MODIFIED:20260421T193113
LOCATION:100 Connell Ferry Road\, Joaquin TX 75954
SUMMARY:Sunday Morning Service
URL;VALUE=URI:https://www.joaquinfbc.com/events/sunday-morning-service/2026
 -08-16
END:VEVENT
END:VCALENDAR
